BEGIN:VCALENDAR
VERSION:2.0
PRODID:-//ChamberMaster//Event Calendar 2.0//EN
METHOD:PUBLISH
X-PUBLISHED-TTL:P1H
REFRESH-INTERVAL:P1H
CALSCALE:GREGORIAN
BEGIN:VTIMEZONE
TZID:America/Chicago
BEGIN:DAYLIGHT
RRULE:FREQ=YEARLY;BYMONTH=3;BYDAY=2SU
DTSTART:20070101T000000
TZOFFSETFROM:-0600
TZOFFSETTO:-0500
TZNAME:Central Daylight Time
END:DAYLIGHT
BEGIN:STANDARD
RRULE:FREQ=YEARLY;BYMONTH=11;BYDAY=1SU
DTSTART:20070101T000000
TZOFFSETFROM:-0500
TZOFFSETTO:-0600
TZNAME:Central Standard Time
END:STANDARD
END:VTIMEZONE
BEGIN:VEVENT
DTSTART;TZID=America/Chicago:20260615T113000
DTEND;TZID=America/Chicago:20260615T123000
X-MICROSOFT-CDO-ALLDAYEVENT:FALSE
SUMMARY:APA Northeast Chapter Interest Group Meeting
DESCRIPTION:Join us for an open-ended discussion on Northeast Regional Codes. This session is a dedicated time for group dialogue without a formal presentation.Free event for APA members\; registration required. Note: This event is for discussion purposes only. Continuing education (CE) credit is NOT available for this session.
X-ALT-DESC;FMTTYPE=text/html:<!DOCTYPE html><html><head><title></title></head><body aria-disabled="false"><p><meta charset="utf-8">Join us for an open-ended discussion on Northeast Regional Codes. This session is a dedicated time for group dialogue without a formal presentation.</p><p>Free event for APA members\; registration required.&nbsp\;</p><p><meta charset="utf-8"><b data-index-in-node="0" data-path-to-node="4\,0">Note:</b> This event is for discussion purposes only. Continuing education (CE) credit is NOT available for this session.</p></body></html>
LOCATION:
UID:e.4260.1440423
SEQUENCE:3
DTSTAMP:20260421T191243Z
URL:https://members.apaaccess.org/apa-calendar/Details/apa-northeast-chapter-interest-group-meeting-1705274?sourceTypeId=Hub
END:VEVENT
END:VCALENDAR
